BEGIN:VCALENDAR
VERSION:2.0
PRODID:-//De Tuin in vier seizoenen - ECPv6.15.20//NONSGML v1.0//EN
CALSCALE:GREGORIAN
METHOD:PUBLISH
X-WR-CALNAME:De Tuin in vier seizoenen
X-ORIGINAL-URL:https://tijdschriftdetuin.nl
X-WR-CALDESC:Evenementen voor De Tuin in vier seizoenen
REFRESH-INTERVAL;VALUE=DURATION:PT1H
X-Robots-Tag:noindex
X-PUBLISHED-TTL:PT1H
BEGIN:VTIMEZONE
TZID:Europe/Helsinki
BEGIN:DAYLIGHT
TZOFFSETFROM:+0200
TZOFFSETTO:+0300
TZNAME:EEST
DTSTART:20210328T010000
END:DAYLIGHT
BEGIN:STANDARD
TZOFFSETFROM:+0300
TZOFFSETTO:+0200
TZNAME:EET
DTSTART:20211031T010000
END:STANDARD
BEGIN:DAYLIGHT
TZOFFSETFROM:+0200
TZOFFSETTO:+0300
TZNAME:EEST
DTSTART:20220327T010000
END:DAYLIGHT
BEGIN:STANDARD
TZOFFSETFROM:+0300
TZOFFSETTO:+0200
TZNAME:EET
DTSTART:20221030T010000
END:STANDARD
BEGIN:DAYLIGHT
TZOFFSETFROM:+0200
TZOFFSETTO:+0300
TZNAME:EEST
DTSTART:20230326T010000
END:DAYLIGHT
BEGIN:STANDARD
TZOFFSETFROM:+0300
TZOFFSETTO:+0200
TZNAME:EET
DTSTART:20231029T010000
END:STANDARD
BEGIN:DAYLIGHT
TZOFFSETFROM:+0200
TZOFFSETTO:+0300
TZNAME:EEST
DTSTART:20240331T010000
END:DAYLIGHT
BEGIN:STANDARD
TZOFFSETFROM:+0300
TZOFFSETTO:+0200
TZNAME:EET
DTSTART:20241027T010000
END:STANDARD
BEGIN:DAYLIGHT
TZOFFSETFROM:+0200
TZOFFSETTO:+0300
TZNAME:EEST
DTSTART:20250330T010000
END:DAYLIGHT
BEGIN:STANDARD
TZOFFSETFROM:+0300
TZOFFSETTO:+0200
TZNAME:EET
DTSTART:20251026T010000
END:STANDARD
END:VTIMEZONE
BEGIN:VEVENT
DTSTART;TZID=Europe/Helsinki:20240614T100000
DTEND;TZID=Europe/Helsinki:20240616T170000
DTSTAMP:20260425T025808
CREATED:20240604T073337Z
LAST-MODIFIED:20240604T073418Z
UID:23309-1718359200-1718557200@tijdschriftdetuin.nl
SUMMARY:Open Tuinen Dagen
DESCRIPTION:Tijdens het derde weekend van juni opent een reeks grachtentuinen\, van zowel particulieren als instellingen\, de deuren voor het publiek. Voor iedereen die nieuwsgierig is naar het groen dat schuilgaat achter de grachtenpanden zijn de jaarlijkse Open Tuinen Dagen het moment om op ontdekkingsreis te gaan. \nWat is oud\, wat is nieuw in de eeuwenoude grachtentuinen? Waardoor heeft de huidige eigenaar van de grachtentuin zich laten inspireren? Om hierin meer inzicht te krijgen heeft de bezoeker van de Open Tuinen Dagen dit keer de kans een vergelijking te maken tussen heden en verleden. \nGrachtentuinen Fonds\nEen gedeelte van de opbrengst van de Open Tuinen Dagen komt ten goede aan het Grachtentuinen Fonds\, beheerd door het Cultuurfonds. Met dit fonds worden Amsterdamse projecten gesteund die openbaar toegang tot groen erfgoed in de hele stad en voor de hele stad mogelijk maken. Van de grachten\, voor de stad. \nTickets\nTickets voor de Open Tuinen Dagen op 14\, 15 en 16 juni van 10-17 uur zijn te koop via de website van Museum Van Loon t/m 13 juni voor €20\,- (excl. service kosten). Gedurende de Open Tuinen Dagen zijn tickets te verkrijgen bij één van de startadressen aan de deur of via de webshop voor €22\,50 (excl. service kosten). Tickets zijn drie dagen geldig\, iedere tuin kan eenmaal bezocht worden (met uitgezonderd van de tuin van Museum Van Loon). \nMeer informatie over de Open Tuinen Dagen is te vinden op: Open Tuinen Dagen Amsterdam | Museum Van Loon
URL:https://tijdschriftdetuin.nl/event/open-tuinen-dagen-2/
LOCATION:Open Tuin Dagen Amsterdam
ATTACH;FMTTYPE=image/jpeg:https://tijdschriftdetuin.nl/wp-content/uploads/2024/06/open-tuinen-amsterdam.jpg
END:VEVENT
BEGIN:VEVENT
DTSTART;TZID=Europe/Helsinki:20230616T100000
DTEND;TZID=Europe/Helsinki:20230618T170000
DTSTAMP:20260425T025808
CREATED:20230404T093224Z
LAST-MODIFIED:20230404T093224Z
UID:21851-1686909600-1687107600@tijdschriftdetuin.nl
SUMMARY:Open Tuinen Dagen 2023
DESCRIPTION:De grachtentuin als decor op 16\, 17 en 18 juni van 10.00 tot 17.00 uur. Tijdens het derde weekend van juni opent een keur aan grachtentuinen zowel van particulieren als instellingen zijn deuren voor het publiek. Wat ervaar je als je een Amsterdamse grachtentuin binnenstapt? Niet alleen de tuin zelf maar ook de weidse ruimte eromheen: de façades van de grachtenhuizen\, de tuinhuizen\, de eeuwenoude bomen in maar ook om de tuin heen. Hoe verhoudt zich het decor van de tuin tot de omringende ruimte? Dit jaar is het thema: De grachtentuin als decor. \nGrachtentuinen Fonds\nEen gedeelte van de opbrengst van de Open Tuinen Dagen komt ten goede aan het Grachtentuinen Fonds\, beheerd door het Prins Bernhard Cultuurfonds. Met dit fonds worden Amsterdamse projecten gesteund die openbaar toegang tot groen erfgoed stads breed mogelijk maken. Van de grachten\, voor de stad. \nTickets\nTickets voor de Open Tuinen Dagen 2023 zijn te bestellen via de online voorverkoop in de webshop van Museum Van Loon t/m 15 juni voor €20- (excl. service kosten). Gedurende de Open Tuinen Dagen zijn tickets te verkrijgen bij één van de startadressen aan de deur of via de webshop van Museum Van Loon voor €22\,50 (excl. service kosten). Tickets zijn drie dagen geldig\, iedere tuin kan eenmaal bezocht worden (uitgezonderd Museum Van Loon). \n• Met een stadspas met groene stip is een bezoek aan de Open Tuinen Dagen dit jaar gratis. Op vertoon van uw stadspas aan de kassa van Museum Van Loon ontvangt u een gratis passe-partout.\n• Kinderen tot 12 jaar mogen gratis naar binnen onder begeleiding van een volwassene. \nStartadressen\n1. Amnesty International\, Keizersgracht 177 Let op: PIN ONLY\n2. Museum Van Loon\, Keizersgracht 672 Let op: PIN ONLY\n3. Museum Willet-Holthuysen\, Herengracht 605\n4. Huis Marseille\, Keizersgracht 401 \nN.B. : de tuinen zijn vanwege stoepen en trappen helaas niet toegankelijk voor rolstoelgebruikers. Honden\, kinderwagens en rolkoffers worden niet toegelaten. Meer informatie over de Open Tuinen Dagen is hier te vinden: www.museumvanloon.nl/programma/open-tuinen-dagen \nFotocredits: John Lewis
URL:https://tijdschriftdetuin.nl/event/open-tuinen-dagen-2023/
LOCATION:Open Tuin Dagen Amsterdam
ATTACH;FMTTYPE=image/jpeg:https://tijdschriftdetuin.nl/wp-content/uploads/2022/02/Open-Tuinen-Amsterdam-Credtis-John-Lewis.jpg
END:VEVENT
BEGIN:VEVENT
DTSTART;TZID=Europe/Helsinki:20220617T100000
DTEND;TZID=Europe/Helsinki:20220619T170000
DTSTAMP:20260425T025808
CREATED:20220222T133032Z
LAST-MODIFIED:20220222T133032Z
UID:20233-1655460000-1655658000@tijdschriftdetuin.nl
SUMMARY:Open Tuinen Amsterdam
DESCRIPTION:Terug na twee jaar covid-afwezigheid: de Open Tuinen Dagen op 17\, 18 en 19 juni van 10-17 uur. Met dit jaar als thema Op bezoek in de particuliere grachtentuin. Tijdens het derde weekend van juni krijgt de bezoeker de kans om een variëteit aan grachtentuinen te bezoeken. \nDe grachtentuinen van Amsterdam worden ook wel het best bewaarde geheim van de stad genoemd\, omdat ze achter gesloten huizenblokken liggen. Het thema van dit jaar Op bezoek in de particuliere grachtentuin verwijst naar het historische feit dat vrijwel al deze tuinen ooit zijn aangelegd als particuliere tuin bij een woonhuis. Ruim 25 grachtentuinen openen voor het publiek tijdens de Open Tuinen Dagen 2022. \nGrachtentuinen Fonds\nHet doel van de Open Tuinen Dagen is de aandacht te vestigen op het groene erfgoed van de stad\, in dit geval de ‘groene longen’ van de grachtengordel. Maar de doelstelling gaat breder: een gedeelte van de opbrengst van de Open Tuinen Dagen komt ten goede aan het Grachtentuinen Fonds\, beheerd door het Prins Bernhard Cultuurfonds. Met dit fonds worden Amsterdamse projecten gesteund die toegang tot groen erfgoed stadsbreed mogelijk maken. Van de grachten\, voor de stad. \nTickets voor de Open Tuinen Dagen 2022 zijn te bestellen via de online voorverkoop in de webshop van Museum Van Loon t/m 16 juni voor €18\,- (excl. service kosten). \nGedurende de Open Tuinen Dagen zijn tickets te verkrijgen bij één van de startadressen aan de deur of via de webshop van Museum Van Loon voor €20\,00 (excl. service kosten). \nTickets zijn drie dagen geldig\, iedere tuin kan eenmaal bezocht worden (uitgezonderd Museum van Loon).\n• Met een stadspas met groene stip is een bezoek aan de Open Tuinen Dagen dit jaar gratis. Op vertoon van uw stadspas aan de kassa van Museum Van Loon ontvangt u een gratis passe-partout.\n• Kinderen tot 12 jaar mogen gratis naar binnen onder begeleiding van een volwassene. \nMeer informatie over de Open Tuinen Dagen is hier te vinden: www.museumvanloon.nl/programma/open-tuinen-dagen
URL:https://tijdschriftdetuin.nl/event/open-tuinen-amsterdam/
LOCATION:Open Tuin Dagen Amsterdam
ATTACH;FMTTYPE=image/jpeg:https://tijdschriftdetuin.nl/wp-content/uploads/2022/02/Open-Tuinen-Amsterdam-Credtis-John-Lewis.jpg
END:VEVENT
END:VCALENDAR