BEGIN:VCALENDAR
VERSION:2.0
PRODID:-//De Tuin in vier seizoenen - ECPv6.15.20//NONSGML v1.0//EN
CALSCALE:GREGORIAN
METHOD:PUBLISH
X-WR-CALNAME:De Tuin in vier seizoenen
X-ORIGINAL-URL:https://tijdschriftdetuin.nl
X-WR-CALDESC:Evenementen voor De Tuin in vier seizoenen
REFRESH-INTERVAL;VALUE=DURATION:PT1H
X-Robots-Tag:noindex
X-PUBLISHED-TTL:PT1H
BEGIN:VTIMEZONE
TZID:Europe/Helsinki
BEGIN:DAYLIGHT
TZOFFSETFROM:+0200
TZOFFSETTO:+0300
TZNAME:EEST
DTSTART:20240331T010000
END:DAYLIGHT
BEGIN:STANDARD
TZOFFSETFROM:+0300
TZOFFSETTO:+0200
TZNAME:EET
DTSTART:20241027T010000
END:STANDARD
BEGIN:DAYLIGHT
TZOFFSETFROM:+0200
TZOFFSETTO:+0300
TZNAME:EEST
DTSTART:20250330T010000
END:DAYLIGHT
BEGIN:STANDARD
TZOFFSETFROM:+0300
TZOFFSETTO:+0200
TZNAME:EET
DTSTART:20251026T010000
END:STANDARD
BEGIN:DAYLIGHT
TZOFFSETFROM:+0200
TZOFFSETTO:+0300
TZNAME:EEST
DTSTART:20260329T010000
END:DAYLIGHT
BEGIN:STANDARD
TZOFFSETFROM:+0300
TZOFFSETTO:+0200
TZNAME:EET
DTSTART:20261025T010000
END:STANDARD
END:VTIMEZONE
BEGIN:VEVENT
DTSTART;TZID=Europe/Helsinki:20251101T101500
DTEND;TZID=Europe/Helsinki:20251101T160000
DTSTAMP:20260421T064640
CREATED:20250820T152115Z
LAST-MODIFIED:20250820T152115Z
UID:24480-1761992100-1762012800@tijdschriftdetuin.nl
SUMMARY:Masterclass ‘Het hele jaar een interessante tuin’
DESCRIPTION:Hoe ontwerp je een tuin die het hele jaar door blijft boeien? Op zaterdag 1 november organiseert Botanische Tuinen Universiteit Utrecht een inspirerende masterclass met groenvormgever Harry Pierik. Hij neemt de deelnemers mee in zijn visie op tuinbeplanting\, aan de hand van zijn beroemde verborgen stadstuin én vele andere verrassende\, rustgevende en harmonieuze tuinen. \n \nTijdens deze masterclass – voor professionele hoveniers\, tuinarchitecten en gevorderde hobby-tuiniers – deelt Pierik zijn kennis en praktijkervaring\, waarmee elke tuin is om te vormen tot een plek met tijdloze schoonheid. Aansluitend gaan de deelnemers zelf aan de slag in een creatieve workshop\, begeleid door Harry Pierik en hortulanus Gerard van Buiten. \n \nProgramma\n– Een bijna twee uur lange presentatie van Harry Pierik\, met uiteenlopende voorbeelden van geveltuintjes\, daktuinen\, landelijke tuinen en bostuinen.\n– Ruimte voor persoonlijke ontmoetingen\, gesprekken en een gezamenlijke lunch.\n– Een vrije wandeling door de botanische tuinen.\n– In de middag: workshops en rondleidingen in kleine groepen\, voor directe toepassing en inspiratie. \nMeer informatie en aanmelden via: www.uu.nl/agenda/masterclass-het-hele-jaar-een-interessante-tuin
URL:https://tijdschriftdetuin.nl/event/masterclass-het-hele-jaar-een-interessante-tuin/
LOCATION:Botanische Tuinen Utrecht\, Budaperstlaan 17\, Utrecht\, 3584 HD\, Nederland
ATTACH;FMTTYPE=image/jpeg:https://tijdschriftdetuin.nl/wp-content/uploads/2025/08/Bostuin-naar-ontwerp-van-Harry-Pierik.jpg
END:VEVENT
END:VCALENDAR