BEGIN:VCALENDAR
VERSION:2.0
PRODID:-//De Tuin in vier seizoenen - ECPv6.15.20//NONSGML v1.0//EN
CALSCALE:GREGORIAN
METHOD:PUBLISH
X-ORIGINAL-URL:https://tijdschriftdetuin.nl
X-WR-CALDESC:Evenementen voor De Tuin in vier seizoenen
REFRESH-INTERVAL;VALUE=DURATION:PT1H
X-Robots-Tag:noindex
X-PUBLISHED-TTL:PT1H
BEGIN:VTIMEZONE
TZID:Europe/Helsinki
BEGIN:DAYLIGHT
TZOFFSETFROM:+0200
TZOFFSETTO:+0300
TZNAME:EEST
DTSTART:20170326T010000
END:DAYLIGHT
BEGIN:STANDARD
TZOFFSETFROM:+0300
TZOFFSETTO:+0200
TZNAME:EET
DTSTART:20171029T010000
END:STANDARD
BEGIN:DAYLIGHT
TZOFFSETFROM:+0200
TZOFFSETTO:+0300
TZNAME:EEST
DTSTART:20180325T010000
END:DAYLIGHT
BEGIN:STANDARD
TZOFFSETFROM:+0300
TZOFFSETTO:+0200
TZNAME:EET
DTSTART:20181028T010000
END:STANDARD
BEGIN:DAYLIGHT
TZOFFSETFROM:+0200
TZOFFSETTO:+0300
TZNAME:EEST
DTSTART:20190331T010000
END:DAYLIGHT
BEGIN:STANDARD
TZOFFSETFROM:+0300
TZOFFSETTO:+0200
TZNAME:EET
DTSTART:20191027T010000
END:STANDARD
END:VTIMEZONE
BEGIN:VEVENT
DTSTART;TZID=Europe/Helsinki:20180526T100000
DTEND;TZID=Europe/Helsinki:20180526T170000
DTSTAMP:20260424T153532
CREATED:20180202T132616Z
LAST-MODIFIED:20180202T132616Z
UID:7497-1527328800-1527354000@tijdschriftdetuin.nl
SUMMARY:Meimarkt 26 mei 2018 De Boschhoeve
DESCRIPTION:Zaterdag 26 mei vindt op Kwekerij/Tuin De Boschhoeve in Wolfheze de jaarlijkse Meimarkt plaats. Een uitgebreide\, gezellige tuinmarkt voor liefhebbers van tuinieren en het buitenleven.  Allereerst zijn er veel planten van collega-kwekers: prachtige rozen\, groente- en kruidenplanten\, bijzondere eenjarigen en salvia’s\, dahlia’s\, (mini-)hosta’s en grassen\, zomerbollen en – knollen\, biologisch geteelde bijen- en vlinderplanten\, heesters\, zeldzame rotsplanten en prachtige bossen Alliumbloemen.\nOm 11.30 uur houdt de Belgische rozenkenner Elsie de Raedt in de kleine schuur haar lezing ‘Sterke rozen en solide vaste planten’.\nHet erf en de tuin staan daarnaast vol kramen met mooie\, lekkere en functionele tuinartikelen. Denk hierbij aan potten en keramiek\, gereedschap en meststoffen\, kaarten en tuintijdschriften\, metalen rozen- en clematissteunen. Maar ook aan ambachtelijke producten als boerenkaas\, vruchtensap\, aardbeien\, jam\, chutney en honing.\nDe ‘Plantendokter’ geeft advies en raad bij vragen over ziekten en plagen in uw tuin.\nBij de moederplantenbedden en in de privé tuinen kan veel inspiratie worden opgedaan voor eigen (moes-)tuin of terras.\nDe inwendige mens wordt verwend in de theeschenkerij\, waar u terecht kunt voor koffie/thee en sap\, heerlijke taart of zelfgebakken tulband en quiches\, belegde broodjes en soep.\nEntree 4\,= euro (kinderen tot 12 jaar gratis)\, openingstijden van 10.00 tot 17.00 uur. \nKwekerij/Tuin ‘De Boschhoeve’\nDineke Logtenberg\nBoshoeve 3\, 6874 NB Wolfheze\nTel. 026-4821231\nWebsite: www.boschhoeve.nl
URL:https://tijdschriftdetuin.nl/event/meimarkt-26-mei-2018-de-boschhoeve/
LOCATION:Kwekerij/Tuin ‘De Boschhoeve’\, Boshoeve 3\, Wolfheze\, 6874 NB\, Nederland
ATTACH;FMTTYPE=image/jpeg:https://tijdschriftdetuin.nl/wp-content/uploads/2018/02/Meimarkt-De-Boschhoeve.jpg
END:VEVENT
END:VCALENDAR