BEGIN:VCALENDAR
VERSION:2.0
PRODID:-//De Tuin in vier seizoenen - ECPv6.15.20//NONSGML v1.0//EN
CALSCALE:GREGORIAN
METHOD:PUBLISH
X-WR-CALNAME:De Tuin in vier seizoenen
X-ORIGINAL-URL:https://tijdschriftdetuin.nl
X-WR-CALDESC:Evenementen voor De Tuin in vier seizoenen
REFRESH-INTERVAL;VALUE=DURATION:PT1H
X-Robots-Tag:noindex
X-PUBLISHED-TTL:PT1H
BEGIN:VTIMEZONE
TZID:Europe/Helsinki
BEGIN:DAYLIGHT
TZOFFSETFROM:+0200
TZOFFSETTO:+0300
TZNAME:EEST
DTSTART:20250330T010000
END:DAYLIGHT
BEGIN:STANDARD
TZOFFSETFROM:+0300
TZOFFSETTO:+0200
TZNAME:EET
DTSTART:20251026T010000
END:STANDARD
BEGIN:DAYLIGHT
TZOFFSETFROM:+0200
TZOFFSETTO:+0300
TZNAME:EEST
DTSTART:20260329T010000
END:DAYLIGHT
BEGIN:STANDARD
TZOFFSETFROM:+0300
TZOFFSETTO:+0200
TZNAME:EET
DTSTART:20261025T010000
END:STANDARD
BEGIN:DAYLIGHT
TZOFFSETFROM:+0200
TZOFFSETTO:+0300
TZNAME:EEST
DTSTART:20270328T010000
END:DAYLIGHT
BEGIN:STANDARD
TZOFFSETFROM:+0300
TZOFFSETTO:+0200
TZNAME:EET
DTSTART:20271031T010000
END:STANDARD
END:VTIMEZONE
BEGIN:VEVENT
DTSTART;TZID=Europe/Helsinki:20260605T100000
DTEND;TZID=Europe/Helsinki:20260607T170000
DTSTAMP:20260424T103946
CREATED:20260302T150106Z
LAST-MODIFIED:20260302T150106Z
UID:25009-1780653600-1780851600@tijdschriftdetuin.nl
SUMMARY:Open dagen Flores in Terra
DESCRIPTION:Dit is uw kans om de kwekerij te ontdekken! Bent u een liefhebber van bijzondere planten en mediterrane sferen? Bezoek de kwekerij op 5\, 6 of 7 juni van 10-17 uur.  Flores in Terra biedt een breed scala aan mediterrane en exotische planten\, waaronder tuinbananen\, citrusbomen en eetbare planten die perfect passen in een voedselbos. Het bedrijf is een voorloper in het promoten van eetbare tuinconcepten\, waarbij het idee van het voedselbos steeds populairder wordt. De kwekerij biedt planten die niet alleen aantrekkelijk zijn\, maar ook praktisch ingezet kunnen worden in een duurzame en zelfvoorzienende tuin. \nFlores in Terra\nSlooiersweg 13\n5962 AX MELDERSLO\nGratis toegang\nwww.floresinterra.nl
URL:https://tijdschriftdetuin.nl/event/open-dagen-flores-in-terra/
LOCATION:Flores in Terra\, Slooierweg 13 \, Melderslo\, 5962 AX\, Nederland
ATTACH;FMTTYPE=image/jpeg:https://tijdschriftdetuin.nl/wp-content/uploads/2025/02/Flores-in-Terra.jpg
END:VEVENT
END:VCALENDAR