BEGIN:VCALENDAR
VERSION:2.0
PRODID:-//De Tuin in vier seizoenen - ECPv6.15.20//NONSGML v1.0//EN
CALSCALE:GREGORIAN
METHOD:PUBLISH
X-WR-CALNAME:De Tuin in vier seizoenen
X-ORIGINAL-URL:https://tijdschriftdetuin.nl
X-WR-CALDESC:Evenementen voor De Tuin in vier seizoenen
REFRESH-INTERVAL;VALUE=DURATION:PT1H
X-Robots-Tag:noindex
X-PUBLISHED-TTL:PT1H
BEGIN:VTIMEZONE
TZID:Europe/Helsinki
BEGIN:DAYLIGHT
TZOFFSETFROM:+0200
TZOFFSETTO:+0300
TZNAME:EEST
DTSTART:20230326T010000
END:DAYLIGHT
BEGIN:STANDARD
TZOFFSETFROM:+0300
TZOFFSETTO:+0200
TZNAME:EET
DTSTART:20231029T010000
END:STANDARD
BEGIN:DAYLIGHT
TZOFFSETFROM:+0200
TZOFFSETTO:+0300
TZNAME:EEST
DTSTART:20240331T010000
END:DAYLIGHT
BEGIN:STANDARD
TZOFFSETFROM:+0300
TZOFFSETTO:+0200
TZNAME:EET
DTSTART:20241027T010000
END:STANDARD
BEGIN:DAYLIGHT
TZOFFSETFROM:+0200
TZOFFSETTO:+0300
TZNAME:EEST
DTSTART:20250330T010000
END:DAYLIGHT
BEGIN:STANDARD
TZOFFSETFROM:+0300
TZOFFSETTO:+0200
TZNAME:EET
DTSTART:20251026T010000
END:STANDARD
BEGIN:DAYLIGHT
TZOFFSETFROM:+0200
TZOFFSETTO:+0300
TZNAME:EEST
DTSTART:20260329T010000
END:DAYLIGHT
BEGIN:STANDARD
TZOFFSETFROM:+0300
TZOFFSETTO:+0200
TZNAME:EET
DTSTART:20261025T010000
END:STANDARD
END:VTIMEZONE
BEGIN:VEVENT
DTSTART;TZID=Europe/Helsinki:20251108T100000
DTEND;TZID=Europe/Helsinki:20251109T170000
DTSTAMP:20260421T064641
CREATED:20250922T075814Z
LAST-MODIFIED:20250922T075814Z
UID:24570-1762596000-1762707600@tijdschriftdetuin.nl
SUMMARY:Fruitshow ‘Verleden tot Heden’
DESCRIPTION:Dit jaar heeft de boomgaard overvloedig fruit gegeven. Het heeft echt iets magisch al dat fruit. Allemaal rassen die ooit op Nederlandse bodem hebben gestaan en door onze vrijwilligers worden behouden. Hopelijk past alles er in! \nVolledige betovering is ons doel voor deze show. Zintuigen moeten bedwingen op weg naar de proeftafels waar je zelf mag proeven\, ruiken en beleven. Lekker zitten bij de brandende haard met een kopje koffie en onze inmiddels beroemde appeltaart of eigen unieke appelsap. Laat je verder verrassen wie en wat je nog meer gaat aantreffen binnen en neem de big shopper mee voor alle leuke ambachtelijke extra’s. \nBuiten starten we weer met boomverkoop in onze bruisende kwekerij. Hier tref je vele oude rassen fruitbomen aan in diverse boomvormen en leeftijden. Ontmoet ons daar voor advies op het gebied van aankoop\, aanplant en teeltwijze. \nDe Fruitshow wordt gehouden op zaterdag 8 en zondag 9 november 2025\, beide dagen van 10.00 – 17.00 uur. Parallelweg Den Helder 1 te Doesburg. De Museumtuin is gelegen aan de N 317 hoek N 338\, naast Zwembad Den Helder. Volg de bruine ANWB borden met het opschrift Museumtuin ’t Olde Ras. Parkeren gratis bij de Museumtuin en zwembad. Entree € 3\,00. \nKomt u zich laten betoveren? Voor meer informatie www.tolderas.nl of telefoon 06-51268802 (u kunt bij ons niet pinnen\, graag zo gepast mogelijk betalen). \nKom kijken\, proeven\, beleven\, verwonderen… mis het niet!
URL:https://tijdschriftdetuin.nl/event/fruitshow-verleden-tot-heden-2/
LOCATION:Museumtuin ’t Olde Ras\, Parallelweg Den Helder 1\, Doesburg\, 6982 DV\, Nederland
ATTACH;FMTTYPE=image/jpeg:https://tijdschriftdetuin.nl/wp-content/uploads/2019/09/Museumtuin-t-Olde-Ras.jpg
END:VEVENT
BEGIN:VEVENT
DTSTART;TZID=Europe/Helsinki:20251101T101500
DTEND;TZID=Europe/Helsinki:20251101T160000
DTSTAMP:20260421T064641
CREATED:20250820T152115Z
LAST-MODIFIED:20250820T152115Z
UID:24480-1761992100-1762012800@tijdschriftdetuin.nl
SUMMARY:Masterclass ‘Het hele jaar een interessante tuin’
DESCRIPTION:Hoe ontwerp je een tuin die het hele jaar door blijft boeien? Op zaterdag 1 november organiseert Botanische Tuinen Universiteit Utrecht een inspirerende masterclass met groenvormgever Harry Pierik. Hij neemt de deelnemers mee in zijn visie op tuinbeplanting\, aan de hand van zijn beroemde verborgen stadstuin én vele andere verrassende\, rustgevende en harmonieuze tuinen. \n \nTijdens deze masterclass – voor professionele hoveniers\, tuinarchitecten en gevorderde hobby-tuiniers – deelt Pierik zijn kennis en praktijkervaring\, waarmee elke tuin is om te vormen tot een plek met tijdloze schoonheid. Aansluitend gaan de deelnemers zelf aan de slag in een creatieve workshop\, begeleid door Harry Pierik en hortulanus Gerard van Buiten. \n \nProgramma\n– Een bijna twee uur lange presentatie van Harry Pierik\, met uiteenlopende voorbeelden van geveltuintjes\, daktuinen\, landelijke tuinen en bostuinen.\n– Ruimte voor persoonlijke ontmoetingen\, gesprekken en een gezamenlijke lunch.\n– Een vrije wandeling door de botanische tuinen.\n– In de middag: workshops en rondleidingen in kleine groepen\, voor directe toepassing en inspiratie. \nMeer informatie en aanmelden via: www.uu.nl/agenda/masterclass-het-hele-jaar-een-interessante-tuin
URL:https://tijdschriftdetuin.nl/event/masterclass-het-hele-jaar-een-interessante-tuin/
LOCATION:Botanische Tuinen Utrecht\, Budaperstlaan 17\, Utrecht\, 3584 HD\, Nederland
ATTACH;FMTTYPE=image/jpeg:https://tijdschriftdetuin.nl/wp-content/uploads/2025/08/Bostuin-naar-ontwerp-van-Harry-Pierik.jpg
END:VEVENT
BEGIN:VEVENT
DTSTART;TZID=Europe/Helsinki:20241122T090000
DTEND;TZID=Europe/Helsinki:20241123T170000
DTSTAMP:20260421T064641
CREATED:20241104T095453Z
LAST-MODIFIED:20241104T095453Z
UID:23684-1732266000-1732381200@tijdschriftdetuin.nl
SUMMARY:Wintersfeerdagen
DESCRIPTION:Wie denkt dat er in de winter buiten niets moois meer te zien is\, heeft het mis! Ook tijdens de koude en donkere dagen kunt u genieten van de wintertuin. Onder het genot van een warme drank en iets lekkers kunt u tijdens de wintersfeerdagen op 22 en 23 november inspiratie op komen doen voor een tijdloze wintersfeer. De tuinen en tuinkamers zullen gevuld zijn met wintergroene planten\, veel lichtjes en stoere schikkingen van natuurlijke materialen. \nTerwijl er buiten in de tuin weinig is te doen\, is dit wel de tijd om binnenshuis een gezellige sfeer te creëren. In de winkel vindt u de inspiratie die u nodig heeft voor een warm en natuurlijk winterinterieur. Binnen branden de kaarsen. Ook kunt u zich lekker opwarmen bij de grote speksteenkachel. \nNu de dagen korter worden halen we de natuur van buiten naar binnen. Takken vol kleurige bessen\, handgemaakte kransen en gedroogde vruchten kunnen daarbij niet missen. www.briellaerd.nl/wintersfeerdagen/
URL:https://tijdschriftdetuin.nl/event/wintersfeerdagen/
LOCATION:Hovenierscentrum De Briellaerd\, Plantagelaan 20\, Barneveld\, 3772 MB\, Nederland
ATTACH;FMTTYPE=image/jpeg:https://tijdschriftdetuin.nl/wp-content/uploads/2021/11/Wintersfeerweken-De-Briellaerd.jpg
END:VEVENT
END:VCALENDAR