BEGIN:VCALENDAR
VERSION:2.0
PRODID:-//De Tuin in vier seizoenen - ECPv6.15.20//NONSGML v1.0//EN
CALSCALE:GREGORIAN
METHOD:PUBLISH
X-WR-CALNAME:De Tuin in vier seizoenen
X-ORIGINAL-URL:https://tijdschriftdetuin.nl
X-WR-CALDESC:Evenementen voor De Tuin in vier seizoenen
REFRESH-INTERVAL;VALUE=DURATION:PT1H
X-Robots-Tag:noindex
X-PUBLISHED-TTL:PT1H
BEGIN:VTIMEZONE
TZID:Europe/Helsinki
BEGIN:DAYLIGHT
TZOFFSETFROM:+0200
TZOFFSETTO:+0300
TZNAME:EEST
DTSTART:20240331T010000
END:DAYLIGHT
BEGIN:STANDARD
TZOFFSETFROM:+0300
TZOFFSETTO:+0200
TZNAME:EET
DTSTART:20241027T010000
END:STANDARD
BEGIN:DAYLIGHT
TZOFFSETFROM:+0200
TZOFFSETTO:+0300
TZNAME:EEST
DTSTART:20250330T010000
END:DAYLIGHT
BEGIN:STANDARD
TZOFFSETFROM:+0300
TZOFFSETTO:+0200
TZNAME:EET
DTSTART:20251026T010000
END:STANDARD
BEGIN:DAYLIGHT
TZOFFSETFROM:+0200
TZOFFSETTO:+0300
TZNAME:EEST
DTSTART:20260329T010000
END:DAYLIGHT
BEGIN:STANDARD
TZOFFSETFROM:+0300
TZOFFSETTO:+0200
TZNAME:EET
DTSTART:20261025T010000
END:STANDARD
END:VTIMEZONE
BEGIN:VEVENT
DTSTART;TZID=Europe/Helsinki:20250828T100000
DTEND;TZID=Europe/Helsinki:20250901T180000
DTSTAMP:20260420T003739
CREATED:20250806T095557Z
LAST-MODIFIED:20250806T095659Z
UID:24450-1756375200-1756749600@tijdschriftdetuin.nl
SUMMARY:Bloemig!
DESCRIPTION:In een tijd waarin mentale gezondheid in de belangstelling staat\, blijkt natuurbeleving een tegenwicht voor de dagelijkse stroom aan prikkels. Bij bloemenevenement Bloemig! in Kasteeltuinen Arcen staat de invloed van bloemen op stemming centraal. Bloemig! gaat plaatsvinden van 28 augustus tot en met 1 september. \nBezoekers ervaren hoe kleurrijke borders\, geurende seizoenbloeiers en zorgvuldig ontworpen tuinen bijdragen aan ontspanning en bewustwording. Parkmanager Rob Rambags ziet dat dagelijks terug in de reacties van bezoekers: “Mensen komen hier letterlijk op adem\,” vertelt hij. “We krijgen vaak te horen dat een wandeling tussen de bloei helpt om het hoofd leeg te maken. Een oprechte behoefte waar we ruimte voor willen bieden.” \n \nKunstwerken van snijbloemen\nVolgens diverse studies heeft contact met natuur\, en specifiek met bloemen\, een positief effect op stressreductie\, creativiteit en stemming. Bloemig! brengt extra bloemen naar het tuinenpark in de vorm van bloemenkunstwerken in het kasteel en in de tuinen gemaakt door professionele bloemarrangeurs. Tijdens Bloemig! worden bloemen ingezet als zintuiglijke ervaring\, met dus bewezen effect op het welzijn. \nVakmensen en vrijwilligers\nHet evenement is het resultaat van samenwerking tussen vakmensen en tientallen vrijwilligers. Kasteeltuinen Arcen maakt onderdeel uit van Stichting het Limburgs Landschap en heeft als doel om publiek te verbinden met cultureel en natuurlijk erfgoed. De opbrengsten van bezoekers worden ingezet voor behoud van het park en natuurgebieden in de regio. \nwww.kasteeltuinen.nl
URL:https://tijdschriftdetuin.nl/event/bloemig/
LOCATION:Kasteeltuinen Arcen\, Lingsforterweg 26\, Arcen\, 5944 BE\, Nederland
ATTACH;FMTTYPE=image/jpeg:https://tijdschriftdetuin.nl/wp-content/uploads/2025/08/Kasteeltuinen-Arcen-Bloemig-1.jpg
END:VEVENT
END:VCALENDAR